Package: GEWIST Version: 1.54.0 Command: /home/biocbuild/bbs-3.22-bioc/R/bin/R CMD build --keep-empty-dirs --no-resave-data --md5 GEWIST StartedAt: 2025-11-06 17:51:19 -0500 (Thu, 06 Nov 2025) EndedAt: 2025-11-06 17:52:46 -0500 (Thu, 06 Nov 2025) EllapsedTime: 87.1 seconds RetCode: 0 Status: OK PackageFile: GEWIST_1.54.0.tar.gz PackageFileSize: 388.8 KiB