Package: GEWIST Version: 1.54.0 Command: /Library/Frameworks/R.framework/Resources/bin/R CMD INSTALL GEWIST StartedAt: 2025-11-03 15:16:21 -0500 (Mon, 03 Nov 2025) EndedAt: 2025-11-03 15:16:47 -0500 (Mon, 03 Nov 2025) EllapsedTime: 25.6 seconds RetCode: 0 Status: OK