Package: GEWIST Version: 1.54.0 Command: /Library/Frameworks/R.framework/Resources/bin/R CMD check --install=check:GEWIST.install-out.txt --library=/Library/Frameworks/R.framework/Resources/library --no-vignettes --timings GEWIST_1.54.0.tar.gz StartedAt: 2025-11-03 21:32:48 -0500 (Mon, 03 Nov 2025) EndedAt: 2025-11-03 21:33:44 -0500 (Mon, 03 Nov 2025) EllapsedTime: 56.1 seconds RetCode: 0 Status: OK CheckDir: GEWIST.Rcheck Warnings: 0