Package: GEWIST Version: 1.54.0 Command: /Library/Frameworks/R.framework/Resources/bin/R CMD build --keep-empty-dirs --no-resave-data GEWIST StartedAt: 2025-11-03 17:10:52 -0500 (Mon, 03 Nov 2025) EndedAt: 2025-11-03 17:12:49 -0500 (Mon, 03 Nov 2025) EllapsedTime: 116.4 seconds RetCode: 0 Status: OK PackageFile: GEWIST_1.54.0.tar.gz PackageFileSize: 387.5 KiB