Package: GEWIST Version: 1.54.0 Command: rm -rf GEWIST.buildbin-libdir && mkdir GEWIST.buildbin-libdir && /Users/biocbuild/BBS/utils/build-universal.sh GEWIST_1.54.0.tar.gz /Library/Frameworks/R.framework/Resources/bin/R GEWIST.buildbin-libdir StartedAt: 2025-11-04 01:42:29 -0500 (Tue, 04 Nov 2025) EndedAt: 2025-11-04 01:42:35 -0500 (Tue, 04 Nov 2025) EllapsedTime: 5.6 seconds RetCode: 0 Status: OK PackageFile: GEWIST_1.54.0.tgz PackageFileSize: 411.9 KiB