Package: GEWIST Version: 1.54.0 Command: /Library/Frameworks/R.framework/Resources/bin/R CMD build --keep-empty-dirs --no-resave-data GEWIST StartedAt: 2025-11-06 16:31:57 -0500 (Thu, 06 Nov 2025) EndedAt: 2025-11-06 16:32:37 -0500 (Thu, 06 Nov 2025) EllapsedTime: 40.4 seconds RetCode: 0 Status: OK PackageFile: GEWIST_1.54.0.tar.gz PackageFileSize: 389 KiB