Package: GEOmetadb Version: 1.72.0 Command: /home/biocbuild/R/R/bin/R CMD check --install=check:GEOmetadb.install-out.txt --library=/home/biocbuild/R/R/site-library --no-vignettes --timings GEOmetadb_1.72.0.tar.gz StartedAt: 2025-11-18 10:14:34 -0000 (Tue, 18 Nov 2025) EndedAt: 2025-11-18 10:15:32 -0000 (Tue, 18 Nov 2025) EllapsedTime: 58.1 seconds RetCode: 0 Status: WARNINGS CheckDir: GEOmetadb.Rcheck Warnings: 1