Package: GEOmetadb Version: 1.72.0 Command: /Library/Frameworks/R.framework/Resources/bin/R CMD check --install=check:GEOmetadb.install-out.txt --library=/Library/Frameworks/R.framework/Resources/library --no-vignettes --timings GEOmetadb_1.72.0.tar.gz StartedAt: 2025-11-18 08:11:46 -0500 (Tue, 18 Nov 2025) EndedAt: 2025-11-18 08:12:47 -0500 (Tue, 18 Nov 2025) EllapsedTime: 61.4 seconds RetCode: 0 Status: WARNINGS CheckDir: GEOmetadb.Rcheck Warnings: 1