Package: GEOmetadb Version: 1.72.0 Command: /Library/Frameworks/R.framework/Resources/bin/R CMD build --keep-empty-dirs --no-resave-data GEOmetadb StartedAt: 2025-11-17 22:45:24 -0500 (Mon, 17 Nov 2025) EndedAt: 2025-11-17 22:45:49 -0500 (Mon, 17 Nov 2025) EllapsedTime: 25.1 seconds RetCode: 0 Status: OK PackageFile: GEOmetadb_1.72.0.tar.gz PackageFileSize: 617.1 KiB