Package: GEOmetadb Version: 1.72.0 Command: rm -rf GEOmetadb.buildbin-libdir && mkdir GEOmetadb.buildbin-libdir && /Users/biocbuild/BBS/utils/build-universal.sh GEOmetadb_1.72.0.tar.gz /Library/Frameworks/R.framework/Resources/bin/R GEOmetadb.buildbin-libdir StartedAt: 2025-11-18 17:44:35 -0500 (Tue, 18 Nov 2025) EndedAt: 2025-11-18 17:44:44 -0500 (Tue, 18 Nov 2025) EllapsedTime: 9.1 seconds RetCode: 0 Status: OK PackageFile: GEOmetadb_1.72.0.tgz PackageFileSize: 528.4 KiB