Package: GEOmetadb Version: 1.72.0 Command: /Library/Frameworks/R.framework/Resources/bin/R CMD build --keep-empty-dirs --no-resave-data GEOmetadb StartedAt: 2025-11-03 17:10:27 -0500 (Mon, 03 Nov 2025) EndedAt: 2025-11-03 17:10:52 -0500 (Mon, 03 Nov 2025) EllapsedTime: 25.9 seconds RetCode: 0 Status: OK PackageFile: GEOmetadb_1.72.0.tar.gz PackageFileSize: 620.2 KiB