Package: GEOexplorer Version: 1.16.0 Command: /home/biocbuild/bbs-3.22-bioc/R/bin/R CMD INSTALL GEOexplorer StartedAt: 2025-10-30 15:36:17 -0400 (Thu, 30 Oct 2025) EndedAt: 2025-10-30 15:37:01 -0400 (Thu, 30 Oct 2025) EllapsedTime: 44.3 seconds RetCode: 0 Status: OK