Package: GEOexplorer Version: 1.16.0 Command: /home/biocbuild/bbs-3.22-bioc/R/bin/R CMD check --install=check:GEOexplorer.install-out.txt --library=/home/biocbuild/bbs-3.22-bioc/R/site-library --timings GEOexplorer_1.16.0.tar.gz StartedAt: 2025-10-30 23:59:39 -0400 (Thu, 30 Oct 2025) EndedAt: 2025-10-31 00:06:02 -0400 (Fri, 31 Oct 2025) EllapsedTime: 382.5 seconds RetCode: 1 Status: ERROR CheckDir: GEOexplorer.Rcheck Warnings: NA