Package: GEOexplorer Version: 1.16.0 Command: /Library/Frameworks/R.framework/Resources/bin/R CMD INSTALL GEOexplorer StartedAt: 2025-10-31 15:39:35 -0400 (Fri, 31 Oct 2025) EndedAt: 2025-10-31 15:40:37 -0400 (Fri, 31 Oct 2025) EllapsedTime: 61.6 seconds RetCode: 0 Status: OK