Package: GEOexplorer Version: 1.16.0 Command: /Library/Frameworks/R.framework/Resources/bin/R CMD check --install=check:GEOexplorer.install-out.txt --library=/Library/Frameworks/R.framework/Resources/library --no-vignettes --timings GEOexplorer_1.16.0.tar.gz StartedAt: 2025-11-09 20:02:29 -0500 (Sun, 09 Nov 2025) EndedAt: 2025-11-09 20:05:19 -0500 (Sun, 09 Nov 2025) EllapsedTime: 169.9 seconds RetCode: 1 Status: ERROR CheckDir: GEOexplorer.Rcheck Warnings: NA