Package: GENIE3 Version: 1.31.0 Command: /home/biocbuild/R/R/bin/R CMD INSTALL GENIE3 StartedAt: 2025-10-23 20:25:58 -0000 (Thu, 23 Oct 2025) EndedAt: 2025-10-23 20:26:17 -0000 (Thu, 23 Oct 2025) EllapsedTime: 19.5 seconds RetCode: 0 Status: OK