Package: GDCRNATools Version: 1.29.0 Command: /home/biocbuild/R/R/bin/R CMD build --keep-empty-dirs --no-resave-data GDCRNATools StartedAt: 2025-10-20 23:53:31 -0000 (Mon, 20 Oct 2025) EndedAt: 2025-10-20 23:54:46 -0000 (Mon, 20 Oct 2025) EllapsedTime: 75.0 seconds RetCode: 0 Status: OK PackageFile: GDCRNATools_1.29.0.tar.gz PackageFileSize: 5.316 MiB