Package: GDCRNATools Version: 1.29.0 Command: F:\biocbuild\bbs-3.22-bioc\R\bin\R.exe CMD check --no-multiarch --install=check:GDCRNATools.install-out.txt --library=F:\biocbuild\bbs-3.22-bioc\R\library --no-vignettes --timings GDCRNATools_1.29.0.tar.gz StartedAt: 2025-08-15 03:25:59 -0400 (Fri, 15 Aug 2025) EndedAt: 2025-08-15 03:33:07 -0400 (Fri, 15 Aug 2025) EllapsedTime: 428.2 seconds RetCode: 0 Status: OK CheckDir: GDCRNATools.Rcheck Warnings: 0