Package: GDCRNATools Version: 1.29.0 Command: chmod a+r GDCRNATools -R && F:\biocbuild\bbs-3.22-bioc\R\bin\R.exe CMD build --keep-empty-dirs --no-resave-data GDCRNATools StartedAt: 2025-08-14 20:21:03 -0400 (Thu, 14 Aug 2025) EndedAt: 2025-08-14 20:22:36 -0400 (Thu, 14 Aug 2025) EllapsedTime: 92.5 seconds RetCode: 0 Status: OK PackageFile: GDCRNATools_1.29.0.tar.gz PackageFileSize: 5.314 MiB