Package: GBScleanR Version: 2.2.0 Command: /Library/Frameworks/R.framework/Resources/bin/R CMD check --install=check:GBScleanR.install-out.txt --library=/Library/Frameworks/R.framework/Resources/library --no-vignettes --timings GBScleanR_2.2.0.tar.gz StartedAt: 2025-04-21 19:28:26 -0400 (Mon, 21 Apr 2025) EndedAt: 2025-04-21 19:29:41 -0400 (Mon, 21 Apr 2025) EllapsedTime: 74.9 seconds RetCode: 0 Status: OK CheckDir: GBScleanR.Rcheck Warnings: 0