Package: GAprediction Version: 1.36.0 Command: /home/biocbuild/R/R/bin/R CMD INSTALL GAprediction StartedAt: 2025-11-20 21:50:31 -0000 (Thu, 20 Nov 2025) EndedAt: 2025-11-20 21:51:14 -0000 (Thu, 20 Nov 2025) EllapsedTime: 43.1 seconds RetCode: 0 Status: OK