Package: GAprediction Version: 1.36.0 Command: /home/biocbuild/R/R/bin/R CMD check --install=check:GAprediction.install-out.txt --library=/home/biocbuild/R/R/site-library --no-vignettes --timings GAprediction_1.36.0.tar.gz StartedAt: 2025-11-21 10:50:46 -0000 (Fri, 21 Nov 2025) EndedAt: 2025-11-21 10:52:36 -0000 (Fri, 21 Nov 2025) EllapsedTime: 109.1 seconds RetCode: 0 Status: OK CheckDir: GAprediction.Rcheck Warnings: 0