Package: GAprediction Version: 1.36.0 Command: /Library/Frameworks/R.framework/Resources/bin/R CMD INSTALL GAprediction StartedAt: 2025-11-17 16:57:17 -0500 (Mon, 17 Nov 2025) EndedAt: 2025-11-17 16:57:38 -0500 (Mon, 17 Nov 2025) EllapsedTime: 21.0 seconds RetCode: 0 Status: OK