Package: GAprediction Version: 1.36.0 Command: /Library/Frameworks/R.framework/Resources/bin/R CMD check --install=check:GAprediction.install-out.txt --library=/Library/Frameworks/R.framework/Resources/library --no-vignettes --timings GAprediction_1.36.0.tar.gz StartedAt: 2025-11-21 05:18:23 -0500 (Fri, 21 Nov 2025) EndedAt: 2025-11-21 05:20:41 -0500 (Fri, 21 Nov 2025) EllapsedTime: 137.7 seconds RetCode: 0 Status: OK CheckDir: GAprediction.Rcheck Warnings: 0