Package: GAprediction Version: 1.36.0 Command: /Library/Frameworks/R.framework/Resources/bin/R CMD build --keep-empty-dirs --no-resave-data GAprediction StartedAt: 2025-11-17 22:34:51 -0500 (Mon, 17 Nov 2025) EndedAt: 2025-11-17 22:36:01 -0500 (Mon, 17 Nov 2025) EllapsedTime: 70.4 seconds RetCode: 0 Status: OK PackageFile: GAprediction_1.36.0.tar.gz PackageFileSize: 1.806 MiB