Package: GARS Version: 1.28.0 Command: /home/biocbuild/bbs-3.21-bioc/R/bin/R CMD check --install=check:GARS.install-out.txt --library=/home/biocbuild/bbs-3.21-bioc/R/site-library --timings GARS_1.28.0.tar.gz StartedAt: 2025-10-15 23:23:34 -0400 (Wed, 15 Oct 2025) EndedAt: 2025-10-15 23:31:32 -0400 (Wed, 15 Oct 2025) EllapsedTime: 477.7 seconds RetCode: 0 Status: OK CheckDir: GARS.Rcheck Warnings: 0