Package: GARS Version: 1.28.0 Command: /Library/Frameworks/R.framework/Resources/bin/R CMD INSTALL GARS StartedAt: 2025-10-13 16:36:38 -0400 (Mon, 13 Oct 2025) EndedAt: 2025-10-13 16:38:35 -0400 (Mon, 13 Oct 2025) EllapsedTime: 117.1 seconds RetCode: 0 Status: OK