Package: GARS Version: 1.30.0 Command: /Library/Frameworks/R.framework/Resources/bin/R CMD check --install=check:GARS.install-out.txt --library=/Library/Frameworks/R.framework/Resources/library --no-vignettes --timings GARS_1.30.0.tar.gz StartedAt: 2025-10-30 21:09:25 -0400 (Thu, 30 Oct 2025) EndedAt: 2025-10-30 21:17:05 -0400 (Thu, 30 Oct 2025) EllapsedTime: 460.1 seconds RetCode: 0 Status: OK CheckDir: GARS.Rcheck Warnings: 0