Package: GARS Version: 1.28.0 Command: /Library/Frameworks/R.framework/Resources/bin/R CMD INSTALL GARS StartedAt: 2025-10-13 18:05:09 -0400 (Mon, 13 Oct 2025) EndedAt: 2025-10-13 18:06:14 -0400 (Mon, 13 Oct 2025) EllapsedTime: 65.5 seconds RetCode: 0 Status: OK