Package: GARS Version: 1.28.0 Command: /Library/Frameworks/R.framework/Resources/bin/R CMD build --keep-empty-dirs --no-resave-data GARS StartedAt: 2025-10-14 00:41:42 -0400 (Tue, 14 Oct 2025) EndedAt: 2025-10-14 00:44:06 -0400 (Tue, 14 Oct 2025) EllapsedTime: 143.6 seconds RetCode: 0 Status: OK PackageFile: GARS_1.28.0.tar.gz PackageFileSize: 438.5 KiB