Package: GARS Version: 1.28.0 Command: rm -rf GARS.buildbin-libdir && mkdir GARS.buildbin-libdir && /Users/biocbuild/BBS/utils/build-universal.sh GARS_1.28.0.tar.gz /Library/Frameworks/R.framework/Resources/bin/R GARS.buildbin-libdir StartedAt: 2025-10-15 18:34:38 -0400 (Wed, 15 Oct 2025) EndedAt: 2025-10-15 18:35:50 -0400 (Wed, 15 Oct 2025) EllapsedTime: 71.9 seconds RetCode: 0 Status: OK PackageFile: GARS_1.28.0.tgz PackageFileSize: 500.4 KiB