Package: GA4GHshiny Version: 1.30.0 Maintainer: Welliton Souza MaintainerEmail: well309 at gmail.com git_url: https://git.bioconductor.org/packages/GA4GHshiny git_branch: RELEASE_3_21 git_last_commit: 021b0c3 git_last_commit_date: 2025-04-15 11:11:19 -0400 (Tue, 15 Apr 2025)