Package: GA4GHclient Version: 1.34.0 Command: /home/biocbuild/R/R/bin/R CMD INSTALL GA4GHclient StartedAt: 2025-11-13 21:52:06 -0000 (Thu, 13 Nov 2025) EndedAt: 2025-11-13 21:52:55 -0000 (Thu, 13 Nov 2025) EllapsedTime: 48.9 seconds RetCode: 0 Status: OK