Package: GA4GHclient Version: 1.34.0 Command: /home/biocbuild/R/R/bin/R CMD build --keep-empty-dirs --no-resave-data GA4GHclient StartedAt: 2025-11-14 01:55:58 -0000 (Fri, 14 Nov 2025) EndedAt: 2025-11-14 01:57:50 -0000 (Fri, 14 Nov 2025) EllapsedTime: 112.1 seconds RetCode: 0 Status: OK PackageFile: GA4GHclient_1.34.0.tar.gz PackageFileSize: 736.9 KiB