Package: GA4GHclient Version: 1.34.0 Command: /home/biocbuild/bbs-3.22-bioc/R/bin/R CMD INSTALL GA4GHclient StartedAt: 2025-11-14 15:47:56 -0500 (Fri, 14 Nov 2025) EndedAt: 2025-11-14 15:48:34 -0500 (Fri, 14 Nov 2025) EllapsedTime: 37.9 seconds RetCode: 0 Status: OK