Package: GA4GHclient Version: 1.34.0 Command: /home/biocbuild/bbs-3.22-bioc/R/bin/R CMD check --install=check:GA4GHclient.install-out.txt --library=/home/biocbuild/bbs-3.22-bioc/R/site-library --timings GA4GHclient_1.34.0.tar.gz StartedAt: 2025-11-14 23:53:41 -0500 (Fri, 14 Nov 2025) EndedAt: 2025-11-14 23:59:12 -0500 (Fri, 14 Nov 2025) EllapsedTime: 331.3 seconds RetCode: 0 Status: OK CheckDir: GA4GHclient.Rcheck Warnings: 0