Package: G4SNVHunter Version: 1.2.0 Command: /home/biocbuild/bbs-3.22-bioc/R/bin/R CMD INSTALL G4SNVHunter StartedAt: 2025-11-06 15:40:25 -0500 (Thu, 06 Nov 2025) EndedAt: 2025-11-06 15:41:13 -0500 (Thu, 06 Nov 2025) EllapsedTime: 48.8 seconds RetCode: 0 Status: OK