Package: G4SNVHunter Version: 1.2.0 Command: /home/biocbuild/bbs-3.22-bioc/R/bin/R CMD check --install=check:G4SNVHunter.install-out.txt --library=/home/biocbuild/bbs-3.22-bioc/R/site-library --timings G4SNVHunter_1.2.0.tar.gz StartedAt: 2025-11-06 23:41:38 -0500 (Thu, 06 Nov 2025) EndedAt: 2025-11-07 00:00:07 -0500 (Fri, 07 Nov 2025) EllapsedTime: 1109.0 seconds RetCode: 0 Status: WARNINGS CheckDir: G4SNVHunter.Rcheck Warnings: 1