Package: G4SNVHunter Version: 1.2.0 Command: /home/biocbuild/bbs-3.22-bioc/R/bin/R CMD build --keep-empty-dirs --no-resave-data --md5 G4SNVHunter StartedAt: 2025-11-06 17:42:42 -0500 (Thu, 06 Nov 2025) EndedAt: 2025-11-06 17:43:29 -0500 (Thu, 06 Nov 2025) EllapsedTime: 47.0 seconds RetCode: 0 Status: OK PackageFile: G4SNVHunter_1.2.0.tar.gz PackageFileSize: 967.3 KiB