Package: FlowSOM Version: 2.17.0 Command: F:\biocbuild\bbs-3.22-bioc\R\bin\R.exe CMD check --no-multiarch --install=check:FlowSOM.install-out.txt --library=F:\biocbuild\bbs-3.22-bioc\R\library --no-vignettes --timings FlowSOM_2.17.0.tar.gz StartedAt: 2025-08-15 03:19:46 -0400 (Fri, 15 Aug 2025) EndedAt: 2025-08-15 03:30:56 -0400 (Fri, 15 Aug 2025) EllapsedTime: 669.9 seconds RetCode: 0 Status: OK CheckDir: FlowSOM.Rcheck Warnings: 0