Package: FlowSOM Version: 2.18.0 Command: /home/biocbuild/bbs-3.22-bioc/R/bin/R CMD INSTALL FlowSOM StartedAt: 2025-11-09 15:13:30 -0500 (Sun, 09 Nov 2025) EndedAt: 2025-11-09 15:13:43 -0500 (Sun, 09 Nov 2025) EllapsedTime: 12.5 seconds RetCode: 0 Status: OK