Package: FinfoMDS Version: 1.0.0 Command: /home/biocbuild/bbs-3.22-bioc/R/bin/R CMD check --install=check:FinfoMDS.install-out.txt --library=/home/biocbuild/bbs-3.22-bioc/R/site-library --timings FinfoMDS_1.0.0.tar.gz StartedAt: 2025-11-06 23:34:51 -0500 (Thu, 06 Nov 2025) EndedAt: 2025-11-06 23:38:33 -0500 (Thu, 06 Nov 2025) EllapsedTime: 222.2 seconds RetCode: 0 Status: OK CheckDir: FinfoMDS.Rcheck Warnings: 0