Package: FinfoMDS Version: 1.0.0 Command: /Library/Frameworks/R.framework/Resources/bin/R CMD INSTALL FinfoMDS StartedAt: 2025-11-03 15:37:20 -0500 (Mon, 03 Nov 2025) EndedAt: 2025-11-03 15:37:46 -0500 (Mon, 03 Nov 2025) EllapsedTime: 26.2 seconds RetCode: 0 Status: OK