Package: FindIT2 Version: 1.16.0 Command: /home/biocbuild/bbs-3.22-bioc/R/bin/R CMD check --install=check:FindIT2.install-out.txt --library=/home/biocbuild/bbs-3.22-bioc/R/site-library --timings FindIT2_1.16.0.tar.gz StartedAt: 2025-11-06 23:34:48 -0500 (Thu, 06 Nov 2025) EndedAt: 2025-11-06 23:41:41 -0500 (Thu, 06 Nov 2025) EllapsedTime: 412.5 seconds RetCode: 0 Status: OK CheckDir: FindIT2.Rcheck Warnings: 0