Package: FindIT2 Version: 1.16.0 Command: /home/biocbuild/bbs-3.22-bioc/R/bin/R CMD build --keep-empty-dirs --no-resave-data --md5 FindIT2 StartedAt: 2025-11-06 17:38:57 -0500 (Thu, 06 Nov 2025) EndedAt: 2025-11-06 17:40:29 -0500 (Thu, 06 Nov 2025) EllapsedTime: 92.1 seconds RetCode: 0 Status: OK PackageFile: FindIT2_1.16.0.tar.gz PackageFileSize: 2.218 MiB