Package: FRGEpistasis Version: 1.46.0 Maintainer: Futao Zhang MaintainerEmail: futoaz at gmail.com git_url: https://git.bioconductor.org/packages/FRGEpistasis git_branch: RELEASE_3_22 git_last_commit: 797194c git_last_commit_date: 2025-10-29 10:18:58 -0500 (Wed, 29 Oct 2025)