Package: FRASER Version: 2.6.0 Command: /home/biocbuild/bbs-3.22-bioc/R/bin/R CMD INSTALL FRASER StartedAt: 2025-11-09 15:45:48 -0500 (Sun, 09 Nov 2025) EndedAt: 2025-11-09 15:47:14 -0500 (Sun, 09 Nov 2025) EllapsedTime: 85.5 seconds RetCode: 0 Status: OK