Package: FRASER Version: 2.6.0 Command: /home/biocbuild/bbs-3.22-bioc/R/bin/R CMD build --keep-empty-dirs --no-resave-data --md5 FRASER StartedAt: 2025-11-09 17:46:19 -0500 (Sun, 09 Nov 2025) EndedAt: 2025-11-09 17:51:27 -0500 (Sun, 09 Nov 2025) EllapsedTime: 308.3 seconds RetCode: 0 Status: OK PackageFile: FRASER_2.6.0.tar.gz PackageFileSize: 2.637 MiB