Package: FRASER Version: 2.4.3 Command: /home/biocbuild/bbs-3.21-bioc/R/bin/R CMD build --keep-empty-dirs --no-resave-data FRASER StartedAt: 2025-10-15 17:33:54 -0400 (Wed, 15 Oct 2025) EndedAt: 2025-10-15 17:38:21 -0400 (Wed, 15 Oct 2025) EllapsedTime: 267.3 seconds RetCode: 0 Status: OK PackageFile: FRASER_2.4.3.tar.gz PackageFileSize: 2.644 MiB