Package: FRASER Version: 2.4.3 Command: /home/biocbuild/R/R/bin/R CMD INSTALL FRASER StartedAt: 2025-10-13 20:58:27 -0000 (Mon, 13 Oct 2025) EndedAt: 2025-10-13 21:00:29 -0000 (Mon, 13 Oct 2025) EllapsedTime: 121.6 seconds RetCode: 0 Status: OK